Package: topconfects Version: 1.18.0 Command: /Library/Frameworks/R.framework/Resources/bin/R CMD INSTALL topconfects StartedAt: 2024-03-03 15:08:59 -0500 (Sun, 03 Mar 2024) EndedAt: 2024-03-03 15:09:09 -0500 (Sun, 03 Mar 2024) EllapsedTime: 10.0 seconds RetCode: 0 Status: OK