Package: topconfects Version: 1.18.0 Command: /Library/Frameworks/R.framework/Resources/bin/R CMD build --keep-empty-dirs --no-resave-data topconfects StartedAt: 2024-03-03 18:36:55 -0500 (Sun, 03 Mar 2024) EndedAt: 2024-03-03 18:38:58 -0500 (Sun, 03 Mar 2024) EllapsedTime: 123.0 seconds RetCode: 0 Status: OK PackageFile: topconfects_1.18.0.tar.gz PackageFileSize: 1.849 MiB