Package: topconfects Version: 1.18.0 Command: /home/biocbuild/R/R-4.3.1/bin/R CMD check --install=check:topconfects.install-out.txt --library=/home/biocbuild/R/R-4.3.1/site-library --no-vignettes --timings topconfects_1.18.0.tar.gz StartedAt: 2023-11-02 14:58:36 -0000 (Thu, 02 Nov 2023) EndedAt: 2023-11-02 15:00:19 -0000 (Thu, 02 Nov 2023) EllapsedTime: 103.2 seconds RetCode: 0 Status: OK CheckDir: topconfects.Rcheck Warnings: 0