Package: topconfects Version: 1.18.0 Command: /home/biocbuild/R/R-4.3.1/bin/R CMD build --keep-empty-dirs --no-resave-data topconfects StartedAt: 2023-11-02 07:07:40 -0000 (Thu, 02 Nov 2023) EndedAt: 2023-11-02 07:10:24 -0000 (Thu, 02 Nov 2023) EllapsedTime: 164.0 seconds RetCode: 0 Status: OK PackageFile: topconfects_1.18.0.tar.gz PackageFileSize: 1.848 MiB