Package: tomoseqr Version: 1.6.0 Command: rm -rf tomoseqr.buildbin-libdir && mkdir tomoseqr.buildbin-libdir && /Users/biocbuild/BBS/utils/build-universal.sh tomoseqr_1.6.0.tar.gz /Library/Frameworks/R.framework/Resources/bin/R tomoseqr.buildbin-libdir StartedAt: 2024-04-16 12:53:06 -0400 (Tue, 16 Apr 2024) EndedAt: 2024-04-16 12:53:24 -0400 (Tue, 16 Apr 2024) EllapsedTime: 17.8 seconds RetCode: 0 Status: OK PackageFile: tomoseqr_1.6.0.tgz PackageFileSize: 1.22 MiB