Package: tomoda Version: 1.12.0 Command: /Library/Frameworks/R.framework/Resources/bin/R CMD check --install=check:tomoda.install-out.txt --library=/Library/Frameworks/R.framework/Resources/library --no-vignettes --timings tomoda_1.12.0.tar.gz StartedAt: 2024-03-03 23:58:12 -0500 (Sun, 03 Mar 2024) EndedAt: 2024-03-04 00:05:12 -0500 (Mon, 04 Mar 2024) EllapsedTime: 420.1 seconds RetCode: 0 Status: OK CheckDir: tomoda.Rcheck Warnings: 0