Package: tomoda Version: 1.12.0 Command: rm -rf tomoda.buildbin-libdir && mkdir tomoda.buildbin-libdir && /Users/biocbuild/BBS/utils/build-universal.sh tomoda_1.12.0.tar.gz /Library/Frameworks/R.framework/Resources/bin/R tomoda.buildbin-libdir StartedAt: 2024-03-04 01:09:04 -0500 (Mon, 04 Mar 2024) EndedAt: 2024-03-04 01:09:41 -0500 (Mon, 04 Mar 2024) EllapsedTime: 37.0 seconds RetCode: 0 Status: OK PackageFile: tomoda_1.12.0.tgz PackageFileSize: 2.794 MiB