Package: tkWidgets Version: 1.80.0 Command: /home/biocbuild/bbs-3.18-bioc/R/bin/R CMD INSTALL tkWidgets StartedAt: 2024-04-15 15:10:07 -0400 (Mon, 15 Apr 2024) EndedAt: 2024-04-15 15:10:27 -0400 (Mon, 15 Apr 2024) EllapsedTime: 19.8 seconds RetCode: 0 Status: OK