Package: timecourse Version: 1.74.0 Command: /Library/Frameworks/R.framework/Resources/bin/R CMD build --keep-empty-dirs --no-resave-data timecourse StartedAt: 2024-04-15 22:34:24 -0400 (Mon, 15 Apr 2024) EndedAt: 2024-04-15 22:35:04 -0400 (Mon, 15 Apr 2024) EllapsedTime: 40.1 seconds RetCode: 0 Status: OK PackageFile: timecourse_1.74.0.tar.gz PackageFileSize: 840.9 KiB