Package: timecourse Version: 1.74.0 Command: rm -rf timecourse.buildbin-libdir && mkdir timecourse.buildbin-libdir && /Users/biocbuild/BBS/utils/build-universal.sh timecourse_1.74.0.tar.gz /Library/Frameworks/R.framework/Resources/bin/R timecourse.buildbin-libdir StartedAt: 2024-04-16 12:52:42 -0400 (Tue, 16 Apr 2024) EndedAt: 2024-04-16 12:52:57 -0400 (Tue, 16 Apr 2024) EllapsedTime: 14.5 seconds RetCode: 0 Status: OK PackageFile: timecourse_1.74.0.tgz PackageFileSize: 943.8 KiB