Package: timecourse Version: 1.74.0 Command: /home/biocbuild/R/R-4.3.1/bin/R CMD build --keep-empty-dirs --no-resave-data timecourse StartedAt: 2023-11-02 07:05:36 -0000 (Thu, 02 Nov 2023) EndedAt: 2023-11-02 07:05:55 -0000 (Thu, 02 Nov 2023) EllapsedTime: 19.0 seconds RetCode: 0 Status: OK PackageFile: timecourse_1.74.0.tar.gz PackageFileSize: 832.3 KiB