Package: timeOmics Version: 1.14.0 Command: /Library/Frameworks/R.framework/Resources/bin/R CMD check --install=check:timeOmics.install-out.txt --library=/Library/Frameworks/R.framework/Resources/library --no-vignettes --timings timeOmics_1.14.0.tar.gz StartedAt: 2024-03-03 23:56:33 -0500 (Sun, 03 Mar 2024) EndedAt: 2024-03-03 23:59:38 -0500 (Sun, 03 Mar 2024) EllapsedTime: 185.7 seconds RetCode: 0 Status: OK CheckDir: timeOmics.Rcheck Warnings: 0