Package: timeOmics Version: 1.14.0 Command: /Library/Frameworks/R.framework/Resources/bin/R CMD build --keep-empty-dirs --no-resave-data timeOmics StartedAt: 2024-03-03 18:36:18 -0500 (Sun, 03 Mar 2024) EndedAt: 2024-03-03 18:36:59 -0500 (Sun, 03 Mar 2024) EllapsedTime: 40.6 seconds RetCode: 0 Status: OK PackageFile: timeOmics_1.14.0.tar.gz PackageFileSize: 3.827 MiB