Package: tigre Version: 1.56.0 Command: /home/biocbuild/R/R-4.3.1/bin/R CMD INSTALL tigre StartedAt: 2023-11-01 20:23:13 -0000 (Wed, 01 Nov 2023) EndedAt: 2023-11-01 20:23:41 -0000 (Wed, 01 Nov 2023) EllapsedTime: 28.3 seconds RetCode: 0 Status: OK