Package: tidybulk Version: 1.14.3 Command: /home/biocbuild/bbs-3.18-bioc/R/bin/R CMD INSTALL tidybulk StartedAt: 2024-04-15 15:30:26 -0400 (Mon, 15 Apr 2024) EndedAt: 2024-04-15 15:31:16 -0400 (Mon, 15 Apr 2024) EllapsedTime: 49.6 seconds RetCode: 0 Status: OK