Package: tidybulk Version: 1.14.0 Command: /home/biocbuild/R/R-4.3.1/bin/R CMD INSTALL tidybulk StartedAt: 2023-11-01 20:36:52 -0000 (Wed, 01 Nov 2023) EndedAt: 2023-11-01 20:38:00 -0000 (Wed, 01 Nov 2023) EllapsedTime: 68.2 seconds RetCode: 0 Status: OK