Package: tadar Version: 1.0.0 Command: F:\biocbuild\bbs-3.18-bioc\R\bin\R.exe CMD check --no-multiarch --install=check:tadar.install-out.txt --library=F:\biocbuild\bbs-3.18-bioc\R\library --no-vignettes --timings tadar_1.0.0.tar.gz StartedAt: 2024-04-16 05:43:55 -0400 (Tue, 16 Apr 2024) EndedAt: 2024-04-16 05:52:36 -0400 (Tue, 16 Apr 2024) EllapsedTime: 521.1 seconds RetCode: 0 Status: OK CheckDir: tadar.Rcheck Warnings: 0