Package: tadar Version: 1.0.0 Command: chmod a+r tadar -R && F:\biocbuild\bbs-3.18-bioc\R\bin\R.exe CMD build --keep-empty-dirs --no-resave-data tadar StartedAt: 2024-04-15 21:37:23 -0400 (Mon, 15 Apr 2024) EndedAt: 2024-04-15 21:40:29 -0400 (Mon, 15 Apr 2024) EllapsedTime: 186.1 seconds RetCode: 0 Status: OK PackageFile: tadar_1.0.0.tar.gz PackageFileSize: 1.269 MiB