Package: tadar Version: 1.0.0 Command: rm -rf tadar.buildbin-libdir && mkdir tadar.buildbin-libdir && F:\biocbuild\bbs-3.18-bioc\R\bin\R.exe CMD INSTALL --build --library=tadar.buildbin-libdir tadar_1.0.0.tar.gz StartedAt: 2024-04-16 07:47:05 -0400 (Tue, 16 Apr 2024) EndedAt: 2024-04-16 07:48:07 -0400 (Tue, 16 Apr 2024) EllapsedTime: 62.5 seconds RetCode: 0 Status: OK PackageFile: tadar_1.0.0.zip PackageFileSize: 1.036 MiB