Package: tadar Version: 1.0.0 Command: /home/biocbuild/bbs-3.18-bioc/R/bin/R CMD build --keep-empty-dirs --no-resave-data tadar StartedAt: 2024-04-15 19:32:24 -0400 (Mon, 15 Apr 2024) EndedAt: 2024-04-15 19:33:50 -0400 (Mon, 15 Apr 2024) EllapsedTime: 85.8 seconds RetCode: 0 Status: OK PackageFile: tadar_1.0.0.tar.gz PackageFileSize: 1.605 MiB