Package: tadar Version: 1.0.0 Command: /Library/Frameworks/R.framework/Resources/bin/R CMD check --install=check:tadar.install-out.txt --library=/Library/Frameworks/R.framework/Resources/library --no-vignettes --timings tadar_1.0.0.tar.gz StartedAt: 2024-04-16 09:45:47 -0400 (Tue, 16 Apr 2024) EndedAt: 2024-04-16 10:02:32 -0400 (Tue, 16 Apr 2024) EllapsedTime: 1005.1 seconds RetCode: 0 Status: OK CheckDir: tadar.Rcheck Warnings: 0