Package: tadar Version: 1.0.0 Command: /Library/Frameworks/R.framework/Resources/bin/R CMD build --keep-empty-dirs --no-resave-data tadar StartedAt: 2024-04-15 22:28:43 -0400 (Mon, 15 Apr 2024) EndedAt: 2024-04-15 22:31:41 -0400 (Mon, 15 Apr 2024) EllapsedTime: 178.4 seconds RetCode: 0 Status: OK PackageFile: tadar_1.0.0.tar.gz PackageFileSize: 1.689 MiB