Package: tadar Version: 1.0.0 Command: /Library/Frameworks/R.framework/Resources/bin/R CMD build --keep-empty-dirs --no-resave-data tadar StartedAt: 2024-03-03 18:33:26 -0500 (Sun, 03 Mar 2024) EndedAt: 2024-03-03 18:35:07 -0500 (Sun, 03 Mar 2024) EllapsedTime: 100.4 seconds RetCode: 0 Status: OK PackageFile: tadar_1.0.0.tar.gz PackageFileSize: 1.616 MiB