Package: tadar Version: 1.0.0 Command: /home/biocbuild/R/R-4.3.1/bin/R CMD INSTALL tadar StartedAt: 2023-11-01 20:38:55 -0000 (Wed, 01 Nov 2023) EndedAt: 2023-11-01 20:40:02 -0000 (Wed, 01 Nov 2023) EllapsedTime: 67.0 seconds RetCode: 0 Status: OK