Package: tadar Version: 1.0.0 Command: /home/biocbuild/R/R-4.3.1/bin/R CMD build --keep-empty-dirs --no-resave-data tadar StartedAt: 2023-11-02 06:57:12 -0000 (Thu, 02 Nov 2023) EndedAt: 2023-11-02 06:59:15 -0000 (Thu, 02 Nov 2023) EllapsedTime: 123.6 seconds RetCode: 0 Status: OK PackageFile: tadar_1.0.0.tar.gz PackageFileSize: 1.677 MiB