Package: tRanslatome Version: 1.40.0 Command: /home/biocbuild/bbs-3.18-bioc/R/bin/R CMD build --keep-empty-dirs --no-resave-data tRanslatome StartedAt: 2024-04-15 19:38:11 -0400 (Mon, 15 Apr 2024) EndedAt: 2024-04-15 19:39:32 -0400 (Mon, 15 Apr 2024) EllapsedTime: 80.7 seconds RetCode: 0 Status: OK PackageFile: tRanslatome_1.40.0.tar.gz PackageFileSize: 811 KiB