Package: tRanslatome Version: 1.40.0 Command: /Library/Frameworks/R.framework/Resources/bin/R CMD INSTALL tRanslatome StartedAt: 2024-03-03 15:35:07 -0500 (Sun, 03 Mar 2024) EndedAt: 2024-03-03 15:36:06 -0500 (Sun, 03 Mar 2024) EllapsedTime: 59.3 seconds RetCode: 0 Status: OK