Package: tRNAscanImport Version: 1.22.0 Command: rm -rf tRNAscanImport.buildbin-libdir && mkdir tRNAscanImport.buildbin-libdir && F:\biocbuild\bbs-3.18-bioc\R\bin\R.exe CMD INSTALL --build --library=tRNAscanImport.buildbin-libdir tRNAscanImport_1.22.0.tar.gz StartedAt: 2024-04-16 07:49:34 -0400 (Tue, 16 Apr 2024) EndedAt: 2024-04-16 07:50:26 -0400 (Tue, 16 Apr 2024) EllapsedTime: 52.4 seconds RetCode: 0 Status: OK PackageFile: tRNAscanImport_1.22.0.zip PackageFileSize: 500.5 KiB