Package: tRNAscanImport Version: 1.22.0 Command: /home/biocbuild/bbs-3.18-bioc/R/bin/R CMD INSTALL tRNAscanImport StartedAt: 2024-04-15 15:20:18 -0400 (Mon, 15 Apr 2024) EndedAt: 2024-04-15 15:20:53 -0400 (Mon, 15 Apr 2024) EllapsedTime: 35.6 seconds RetCode: 0 Status: OK