Package: tRNAscanImport Version: 1.22.0 Command: /Library/Frameworks/R.framework/Resources/bin/R CMD INSTALL tRNAscanImport StartedAt: 2024-03-03 15:18:13 -0500 (Sun, 03 Mar 2024) EndedAt: 2024-03-03 15:19:03 -0500 (Sun, 03 Mar 2024) EllapsedTime: 50.0 seconds RetCode: 0 Status: OK