Package: tRNAscanImport Version: 1.22.0 Command: /Library/Frameworks/R.framework/Resources/bin/R CMD build --keep-empty-dirs --no-resave-data tRNAscanImport StartedAt: 2024-03-03 18:38:56 -0500 (Sun, 03 Mar 2024) EndedAt: 2024-03-03 18:40:50 -0500 (Sun, 03 Mar 2024) EllapsedTime: 113.8 seconds RetCode: 0 Status: OK PackageFile: tRNAscanImport_1.22.0.tar.gz PackageFileSize: 838.4 KiB