Package: tRNAscanImport Version: 1.22.0 Command: rm -rf tRNAscanImport.buildbin-libdir && mkdir tRNAscanImport.buildbin-libdir && /Users/biocbuild/BBS/utils/build-universal.sh tRNAscanImport_1.22.0.tar.gz /Library/Frameworks/R.framework/Resources/bin/R tRNAscanImport.buildbin-libdir StartedAt: 2024-03-04 01:09:40 -0500 (Mon, 04 Mar 2024) EndedAt: 2024-03-04 01:10:33 -0500 (Mon, 04 Mar 2024) EllapsedTime: 53.2 seconds RetCode: 0 Status: OK PackageFile: tRNAscanImport_1.22.0.tgz PackageFileSize: 883.2 KiB