Package: tRNAdbImport Version: 1.20.1 Command: rm -rf tRNAdbImport.buildbin-libdir && mkdir tRNAdbImport.buildbin-libdir && F:\biocbuild\bbs-3.18-bioc\R\bin\R.exe CMD INSTALL --build --library=tRNAdbImport.buildbin-libdir tRNAdbImport_1.20.1.tar.gz StartedAt: 2024-04-16 07:49:32 -0400 (Tue, 16 Apr 2024) EndedAt: 2024-04-16 07:49:54 -0400 (Tue, 16 Apr 2024) EllapsedTime: 22.1 seconds RetCode: 0 Status: OK PackageFile: tRNAdbImport_1.20.1.zip PackageFileSize: 380.5 KiB