Package: tLOH Version: 1.10.0 Command: /Library/Frameworks/R.framework/Resources/bin/R CMD check --install=check:tLOH.install-out.txt --library=/Library/Frameworks/R.framework/Resources/library --no-vignettes --timings tLOH_1.10.0.tar.gz StartedAt: 2024-03-03 23:57:33 -0500 (Sun, 03 Mar 2024) EndedAt: 2024-03-04 00:09:25 -0500 (Mon, 04 Mar 2024) EllapsedTime: 712.5 seconds RetCode: 0 Status: OK CheckDir: tLOH.Rcheck Warnings: 0