Package: systemPipeShiny Version: 1.12.0 Command: /home/biocbuild/bbs-3.18-bioc/R/bin/R CMD check --install=check:systemPipeShiny.install-out.txt --library=/home/biocbuild/bbs-3.18-bioc/R/site-library --timings systemPipeShiny_1.12.0.tar.gz StartedAt: 2024-04-16 04:38:03 -0400 (Tue, 16 Apr 2024) EndedAt: 2024-04-16 04:39:57 -0400 (Tue, 16 Apr 2024) EllapsedTime: 114.2 seconds RetCode: 1 Status: ERROR CheckDir: systemPipeShiny.Rcheck Warnings: NA