Package: systemPipeShiny Version: 1.12.0 Command: /Library/Frameworks/R.framework/Resources/bin/R CMD INSTALL systemPipeShiny StartedAt: 2024-04-15 15:55:38 -0400 (Mon, 15 Apr 2024) EndedAt: 2024-04-15 15:56:10 -0400 (Mon, 15 Apr 2024) EllapsedTime: 32.1 seconds RetCode: 0 Status: OK