Package: systemPipeR Version: 2.8.0 Command: rm -rf systemPipeR.buildbin-libdir && mkdir systemPipeR.buildbin-libdir && F:\biocbuild\bbs-3.18-bioc\R\bin\R.exe CMD INSTALL --build --library=systemPipeR.buildbin-libdir systemPipeR_2.8.0.tar.gz StartedAt: 2024-04-16 07:46:59 -0400 (Tue, 16 Apr 2024) EndedAt: 2024-04-16 07:48:18 -0400 (Tue, 16 Apr 2024) EllapsedTime: 78.8 seconds RetCode: 0 Status: OK PackageFile: systemPipeR_2.8.0.zip PackageFileSize: 6.376 MiB