Package: systemPipeR Version: 2.8.0 Command: /home/biocbuild/bbs-3.18-bioc/R/bin/R CMD check --install=check:systemPipeR.install-out.txt --library=/home/biocbuild/bbs-3.18-bioc/R/site-library --timings systemPipeR_2.8.0.tar.gz StartedAt: 2024-04-16 04:37:29 -0400 (Tue, 16 Apr 2024) EndedAt: 2024-04-16 04:44:21 -0400 (Tue, 16 Apr 2024) EllapsedTime: 411.8 seconds RetCode: 0 Status: OK CheckDir: systemPipeR.Rcheck Warnings: 0