Package: systemPipeR Version: 2.8.0 Command: /Library/Frameworks/R.framework/Resources/bin/R CMD INSTALL systemPipeR StartedAt: 2024-03-03 15:24:28 -0500 (Sun, 03 Mar 2024) EndedAt: 2024-03-03 15:25:33 -0500 (Sun, 03 Mar 2024) EllapsedTime: 64.8 seconds RetCode: 0 Status: OK