Package: systemPipeR Version: 2.8.0 Command: /home/biocbuild/R/R-4.3.1/bin/R CMD INSTALL systemPipeR StartedAt: 2023-11-01 20:33:04 -0000 (Wed, 01 Nov 2023) EndedAt: 2023-11-01 20:34:08 -0000 (Wed, 01 Nov 2023) EllapsedTime: 64.0 seconds RetCode: 0 Status: OK