Package: syntenet Version: 1.4.2 Command: F:\biocbuild\bbs-3.18-bioc\R\bin\R.exe CMD INSTALL syntenet StartedAt: 2024-04-15 16:19:09 -0400 (Mon, 15 Apr 2024) EndedAt: 2024-04-15 16:20:30 -0400 (Mon, 15 Apr 2024) EllapsedTime: 80.8 seconds RetCode: 0 Status: OK