Package: syntenet Version: 1.4.0 Command: /home/biocbuild/R/R-4.3.1/bin/R CMD INSTALL syntenet StartedAt: 2023-11-01 20:41:06 -0000 (Wed, 01 Nov 2023) EndedAt: 2023-11-01 20:42:43 -0000 (Wed, 01 Nov 2023) EllapsedTime: 97.2 seconds RetCode: 0 Status: OK