Package: synlet Version: 2.2.0 Command: rm -rf synlet.buildbin-libdir && mkdir synlet.buildbin-libdir && F:\biocbuild\bbs-3.18-bioc\R\bin\R.exe CMD INSTALL --build --library=synlet.buildbin-libdir synlet_2.2.0.tar.gz StartedAt: 2024-04-16 07:46:54 -0400 (Tue, 16 Apr 2024) EndedAt: 2024-04-16 07:47:05 -0400 (Tue, 16 Apr 2024) EllapsedTime: 11.3 seconds RetCode: 0 Status: OK PackageFile: synlet_2.2.0.zip PackageFileSize: 658.9 KiB