Package: synlet Version: 2.2.0 Command: /Library/Frameworks/R.framework/Resources/bin/R CMD check --install=check:synlet.install-out.txt --library=/Library/Frameworks/R.framework/Resources/library --no-vignettes --timings synlet_2.2.0.tar.gz StartedAt: 2024-04-16 09:44:26 -0400 (Tue, 16 Apr 2024) EndedAt: 2024-04-16 09:45:47 -0400 (Tue, 16 Apr 2024) EllapsedTime: 80.6 seconds RetCode: 0 Status: OK CheckDir: synlet.Rcheck Warnings: 0