Package: synlet Version: 2.2.0 Command: /Library/Frameworks/R.framework/Resources/bin/R CMD build --keep-empty-dirs --no-resave-data synlet StartedAt: 2024-03-03 18:33:09 -0500 (Sun, 03 Mar 2024) EndedAt: 2024-03-03 18:33:38 -0500 (Sun, 03 Mar 2024) EllapsedTime: 29.0 seconds RetCode: 0 Status: OK PackageFile: synlet_2.2.0.tar.gz PackageFileSize: 1.319 MiB