Package: synlet Version: 2.2.0 Command: rm -rf synlet.buildbin-libdir && mkdir synlet.buildbin-libdir && /Users/biocbuild/BBS/utils/build-universal.sh synlet_2.2.0.tar.gz /Library/Frameworks/R.framework/Resources/bin/R synlet.buildbin-libdir StartedAt: 2024-03-04 01:07:59 -0500 (Mon, 04 Mar 2024) EndedAt: 2024-03-04 01:08:09 -0500 (Mon, 04 Mar 2024) EllapsedTime: 10.2 seconds RetCode: 0 Status: OK PackageFile: synlet_2.2.0.tgz PackageFileSize: 1.366 MiB