Package: synlet Version: 2.2.0 Maintainer: Chunxuan Shao MaintainerEmail: chunxuan at outlook.com git_url: https://git.bioconductor.org/packages/synlet git_branch: RELEASE_3_18 git_last_commit: bc5503d git_last_commit_date: 2023-10-24 10:44:43 -0400 (Tue, 24 Oct 2023)