Package: synergyfinder Version: 3.10.3 Command: F:\biocbuild\bbs-3.18-bioc\R\bin\R.exe CMD check --no-multiarch --install=check:synergyfinder.install-out.txt --library=F:\biocbuild\bbs-3.18-bioc\R\library --no-vignettes --timings synergyfinder_3.10.3.tar.gz StartedAt: 2024-04-16 05:42:26 -0400 (Tue, 16 Apr 2024) EndedAt: 2024-04-16 05:44:14 -0400 (Tue, 16 Apr 2024) EllapsedTime: 107.6 seconds RetCode: 0 Status: WARNINGS CheckDir: synergyfinder.Rcheck Warnings: 1