Package: synergyfinder Version: 3.10.3 Command: /home/biocbuild/bbs-3.18-bioc/R/bin/R CMD check --install=check:synergyfinder.install-out.txt --library=/home/biocbuild/bbs-3.18-bioc/R/site-library --timings synergyfinder_3.10.3.tar.gz StartedAt: 2024-04-16 04:35:50 -0400 (Tue, 16 Apr 2024) EndedAt: 2024-04-16 04:39:59 -0400 (Tue, 16 Apr 2024) EllapsedTime: 249.6 seconds RetCode: 0 Status: WARNINGS CheckDir: synergyfinder.Rcheck Warnings: 1