Package: synapter Version: 2.26.0 Command: chmod a+r synapter -R && F:\biocbuild\bbs-3.18-bioc\R\bin\R.exe CMD build --keep-empty-dirs --no-resave-data synapter StartedAt: 2024-04-15 21:35:55 -0400 (Mon, 15 Apr 2024) EndedAt: 2024-04-15 21:53:55 -0400 (Mon, 15 Apr 2024) EllapsedTime: 1079.5 seconds RetCode: 0 Status: OK PackageFile: synapter_2.26.0.tar.gz PackageFileSize: 2.839 MiB